BEGIN:VCALENDAR
VERSION:2.0
PRODID:-//Farm Bureau Livestock Arena - ECPv6.15.20//NONSGML v1.0//EN
CALSCALE:GREGORIAN
METHOD:PUBLISH
X-ORIGINAL-URL:https://www.stanlylivestockarena.com
X-WR-CALDESC:Events for Farm Bureau Livestock Arena
REFRESH-INTERVAL;VALUE=DURATION:PT1H
X-Robots-Tag:noindex
X-PUBLISHED-TTL:PT1H
BEGIN:VTIMEZONE
TZID:America/New_York
BEGIN:DAYLIGHT
TZOFFSETFROM:-0500
TZOFFSETTO:-0400
TZNAME:EDT
DTSTART:20240310T070000
END:DAYLIGHT
BEGIN:STANDARD
TZOFFSETFROM:-0400
TZOFFSETTO:-0500
TZNAME:EST
DTSTART:20241103T060000
END:STANDARD
BEGIN:DAYLIGHT
TZOFFSETFROM:-0500
TZOFFSETTO:-0400
TZNAME:EDT
DTSTART:20250309T070000
END:DAYLIGHT
BEGIN:STANDARD
TZOFFSETFROM:-0400
TZOFFSETTO:-0500
TZNAME:EST
DTSTART:20251102T060000
END:STANDARD
BEGIN:DAYLIGHT
TZOFFSETFROM:-0500
TZOFFSETTO:-0400
TZNAME:EDT
DTSTART:20260308T070000
END:DAYLIGHT
BEGIN:STANDARD
TZOFFSETFROM:-0400
TZOFFSETTO:-0500
TZNAME:EST
DTSTART:20261101T060000
END:STANDARD
BEGIN:DAYLIGHT
TZOFFSETFROM:-0500
TZOFFSETTO:-0400
TZNAME:EDT
DTSTART:20270314T070000
END:DAYLIGHT
BEGIN:STANDARD
TZOFFSETFROM:-0400
TZOFFSETTO:-0500
TZNAME:EST
DTSTART:20271107T060000
END:STANDARD
END:VTIMEZONE
BEGIN:VEVENT
DTSTART;TZID=America/New_York:20250907T000000
DTEND;TZID=America/New_York:20250907T235959
DTSTAMP:20260422T210517
CREATED:20250820T142614Z
LAST-MODIFIED:20250820T142614Z
UID:248-1757203200-1757289599@www.stanlylivestockarena.com
SUMMARY:Vortex Church (Private Event)
DESCRIPTION:Private Event
URL:https://www.stanlylivestockarena.com/event/vortex-church-private-event/
LOCATION:Farm Bureau Livestock Arena\, 26130 Newt Road\, Albemarle\, NC\, 28001\, United States
END:VEVENT
BEGIN:VEVENT
DTSTART;TZID=America/New_York:20250911T180000
DTEND;TZID=America/New_York:20250911T210000
DTSTAMP:20260422T210517
CREATED:20250820T142951Z
LAST-MODIFIED:20250820T142951Z
UID:250-1757613600-1757624400@www.stanlylivestockarena.com
SUMMARY:Bee Keepers Meeting
DESCRIPTION:SCBA meets the second Thursday each month discuss upcoming bee events\, seasonal conditions\, and research findings.
URL:https://www.stanlylivestockarena.com/event/bee-keepers-meeting/
LOCATION:Farm Bureau Livestock Arena\, 26130 Newt Road\, Albemarle\, NC\, 28001\, United States
END:VEVENT
BEGIN:VEVENT
DTSTART;TZID=America/New_York:20250918T180000
DTEND;TZID=America/New_York:20250918T210000
DTSTAMP:20260422T210517
CREATED:20250820T143858Z
LAST-MODIFIED:20250820T143858Z
UID:253-1758218400-1758229200@www.stanlylivestockarena.com
SUMMARY:Farm Bureau Annual Banquet
DESCRIPTION:
URL:https://www.stanlylivestockarena.com/event/farm-bureau-annual-banquet/
LOCATION:Farm Bureau Livestock Arena\, 26130 Newt Road\, Albemarle\, NC\, 28001\, United States
ORGANIZER;CN="Farm Bureau Livestock Arena":MAILTO:clambert@stanlycountync.gov
END:VEVENT
BEGIN:VEVENT
DTSTART;TZID=America/New_York:20250919T000000
DTEND;TZID=America/New_York:20250919T235959
DTSTAMP:20260422T210517
CREATED:20250820T144312Z
LAST-MODIFIED:20250820T144312Z
UID:256-1758240000-1758326399@www.stanlylivestockarena.com
SUMMARY:Relay for Life
DESCRIPTION:
URL:https://www.stanlylivestockarena.com/event/relay-for-life/
LOCATION:Farm Bureau Livestock Arena\, 26130 Newt Road\, Albemarle\, NC\, 28001\, United States
END:VEVENT
BEGIN:VEVENT
DTSTART;TZID=America/New_York:20250920T080000
DTEND;TZID=America/New_York:20250920T170000
DTSTAMP:20260422T210517
CREATED:20250820T144354Z
LAST-MODIFIED:20250820T144354Z
UID:260-1758355200-1758387600@www.stanlylivestockarena.com
SUMMARY:Michelin Corn-Hole Tournament
DESCRIPTION:Private Event
URL:https://www.stanlylivestockarena.com/event/michelin-corn-hole-tournament/
LOCATION:Farm Bureau Livestock Arena\, 26130 Newt Road\, Albemarle\, NC\, 28001\, United States
END:VEVENT
BEGIN:VEVENT
DTSTART;TZID=America/New_York:20250923T080000
DTEND;TZID=America/New_York:20250923T130000
DTSTAMP:20260422T210517
CREATED:20250820T144436Z
LAST-MODIFIED:20250820T144436Z
UID:263-1758614400-1758632400@www.stanlylivestockarena.com
SUMMARY:Leadership Stanly
DESCRIPTION:
URL:https://www.stanlylivestockarena.com/event/leadership-stanly/
LOCATION:Farm Bureau Livestock Arena\, 26130 Newt Road\, Albemarle\, NC\, 28001\, United States
END:VEVENT
BEGIN:VEVENT
DTSTART;TZID=America/New_York:20250927T090000
DTEND;TZID=America/New_York:20250927T130000
DTSTAMP:20260422T210517
CREATED:20250820T145404Z
LAST-MODIFIED:20250820T145404Z
UID:265-1758963600-1758978000@www.stanlylivestockarena.com
SUMMARY:Stanly County NC Artifact Show
DESCRIPTION:
URL:https://www.stanlylivestockarena.com/event/stanly-county-nc-artifact-show/
LOCATION:Farm Bureau Livestock Arena\, 26130 Newt Road\, Albemarle\, NC\, 28001\, United States
END:VEVENT
BEGIN:VEVENT
DTSTART;TZID=America/New_York:20251010T000000
DTEND;TZID=America/New_York:20251010T235959
DTSTAMP:20260422T210517
CREATED:20250820T145457Z
LAST-MODIFIED:20250820T145457Z
UID:270-1760054400-1760140799@www.stanlylivestockarena.com
SUMMARY:7th Grade Career Fair
DESCRIPTION:Private Event
URL:https://www.stanlylivestockarena.com/event/7th-grade-career-fair/
LOCATION:Farm Bureau Livestock Arena\, 26130 Newt Road\, Albemarle\, NC\, 28001\, United States
END:VEVENT
BEGIN:VEVENT
DTSTART;TZID=America/New_York:20251018T110000
DTEND;TZID=America/New_York:20251018T180000
DTSTAMP:20260422T210517
CREATED:20250820T145814Z
LAST-MODIFIED:20250820T145814Z
UID:272-1760785200-1760810400@www.stanlylivestockarena.com
SUMMARY:Hardaway Pow Wow
DESCRIPTION:
URL:https://www.stanlylivestockarena.com/event/hardaway-pow-wow/
LOCATION:Farm Bureau Livestock Arena\, 26130 Newt Road\, Albemarle\, NC\, 28001\, United States
END:VEVENT
BEGIN:VEVENT
DTSTART;TZID=America/New_York:20251019T120000
DTEND;TZID=America/New_York:20251019T170000
DTSTAMP:20260422T210517
CREATED:20250820T145848Z
LAST-MODIFIED:20250820T145848Z
UID:275-1760875200-1760893200@www.stanlylivestockarena.com
SUMMARY:Hardaway Pow Wow
DESCRIPTION:
URL:https://www.stanlylivestockarena.com/event/hardaway-pow-wow-2/
LOCATION:Farm Bureau Livestock Arena\, 26130 Newt Road\, Albemarle\, NC\, 28001\, United States
END:VEVENT
BEGIN:VEVENT
DTSTART;TZID=America/New_York:20251024T190000
DTEND;TZID=America/New_York:20251024T220000
DTSTAMP:20260422T210517
CREATED:20250820T150828Z
LAST-MODIFIED:20250820T150828Z
UID:277-1761332400-1761343200@www.stanlylivestockarena.com
SUMMARY:New Classic Pro Rodeo
DESCRIPTION:
URL:https://www.stanlylivestockarena.com/event/new-classic-pro-rodeo/
LOCATION:Farm Bureau Livestock Arena\, 26130 Newt Road\, Albemarle\, NC\, 28001\, United States
END:VEVENT
BEGIN:VEVENT
DTSTART;TZID=America/New_York:20251025T190000
DTEND;TZID=America/New_York:20251025T220000
DTSTAMP:20260422T210517
CREATED:20250820T150955Z
LAST-MODIFIED:20250820T150955Z
UID:284-1761418800-1761429600@www.stanlylivestockarena.com
SUMMARY:New Classic Pro Rodeo
DESCRIPTION:
URL:https://www.stanlylivestockarena.com/event/new-classic-pro-rodeo-2/
LOCATION:Farm Bureau Livestock Arena\, 26130 Newt Road\, Albemarle\, NC\, 28001\, United States
END:VEVENT
BEGIN:VEVENT
DTSTART;TZID=America/New_York:20260408T000000
DTEND;TZID=America/New_York:20260408T235959
DTSTAMP:20260422T210517
CREATED:20260408T184610Z
LAST-MODIFIED:20260408T184610Z
UID:295-1775606400-1775692799@www.stanlylivestockarena.com
SUMMARY:Private Event for PLP
DESCRIPTION:
URL:https://www.stanlylivestockarena.com/event/private-event-for-plp/
LOCATION:NC
END:VEVENT
BEGIN:VEVENT
DTSTART;TZID=America/New_York:20260410T163000
DTEND;TZID=America/New_York:20260410T180000
DTSTAMP:20260422T210517
CREATED:20260408T184010Z
LAST-MODIFIED:20260408T184010Z
UID:287-1775838600-1775844000@www.stanlylivestockarena.com
SUMMARY:Royal Hanneford Circus
DESCRIPTION:
URL:https://www.stanlylivestockarena.com/event/royal-hanneford-circus-2/
LOCATION:Farm Bureau Livestock Arena\, 26130 Newt Road\, Albemarle\, NC\, 28001\, United States
END:VEVENT
BEGIN:VEVENT
DTSTART;TZID=America/New_York:20260410T190000
DTEND;TZID=America/New_York:20260410T213000
DTSTAMP:20260422T210517
CREATED:20260408T184106Z
LAST-MODIFIED:20260408T184106Z
UID:290-1775847600-1775856600@www.stanlylivestockarena.com
SUMMARY:Royal Hanneford Circus Show #2
DESCRIPTION:
URL:https://www.stanlylivestockarena.com/event/royal-hanneford-circus-show-2/
LOCATION:Farm Bureau Livestock Arena\, 26130 Newt Road\, Albemarle\, NC\, 28001\, United States
END:VEVENT
BEGIN:VEVENT
DTSTART;TZID=America/New_York:20260426T130000
DTEND;TZID=America/New_York:20260426T170000
DTSTAMP:20260422T210517
CREATED:20260408T184356Z
LAST-MODIFIED:20260408T184356Z
UID:292-1777208400-1777222800@www.stanlylivestockarena.com
SUMMARY:Too Hot to Handle Emergency Vehicle & Car Show
DESCRIPTION:
URL:https://www.stanlylivestockarena.com/event/too-hot-to-handle-emergency-vehicle-car-show/
LOCATION:Farm Bureau Livestock Arena\, 26130 Newt Road\, Albemarle\, NC\, 28001\, United States
END:VEVENT
BEGIN:VEVENT
DTSTART;TZID=America/New_York:20260507T170000
DTEND;TZID=America/New_York:20260507T220000
DTSTAMP:20260422T210517
CREATED:20260408T184745Z
LAST-MODIFIED:20260408T184745Z
UID:298-1778173200-1778191200@www.stanlylivestockarena.com
SUMMARY:FFA High School Banquet
DESCRIPTION:
URL:https://www.stanlylivestockarena.com/event/ffa-high-school-banquet/
LOCATION:Farm Bureau Livestock Arena\, 26130 Newt Road\, Albemarle\, NC\, 28001\, United States
END:VEVENT
BEGIN:VEVENT
DTSTART;TZID=America/New_York:20260508T170000
DTEND;TZID=America/New_York:20260508T220000
DTSTAMP:20260422T210517
CREATED:20260408T184835Z
LAST-MODIFIED:20260408T184835Z
UID:301-1778259600-1778277600@www.stanlylivestockarena.com
SUMMARY:FFA Banquet Middle School
DESCRIPTION:
URL:https://www.stanlylivestockarena.com/event/ffa-banquet-middle-school/
LOCATION:Farm Bureau Livestock Arena\, 26130 Newt Road\, Albemarle\, NC\, 28001\, United States
END:VEVENT
END:VCALENDAR