BEGIN:VCALENDAR
VERSION:2.0
PRODID:-//Farm Bureau Livestock Arena - ECPv6.15.20//NONSGML v1.0//EN
CALSCALE:GREGORIAN
METHOD:PUBLISH
X-WR-CALNAME:Farm Bureau Livestock Arena
X-ORIGINAL-URL:https://www.stanlylivestockarena.com
X-WR-CALDESC:Events for Farm Bureau Livestock Arena
REFRESH-INTERVAL;VALUE=DURATION:PT1H
X-Robots-Tag:noindex
X-PUBLISHED-TTL:PT1H
BEGIN:VTIMEZONE
TZID:America/New_York
BEGIN:DAYLIGHT
TZOFFSETFROM:-0500
TZOFFSETTO:-0400
TZNAME:EDT
DTSTART:20240310T070000
END:DAYLIGHT
BEGIN:STANDARD
TZOFFSETFROM:-0400
TZOFFSETTO:-0500
TZNAME:EST
DTSTART:20241103T060000
END:STANDARD
BEGIN:DAYLIGHT
TZOFFSETFROM:-0500
TZOFFSETTO:-0400
TZNAME:EDT
DTSTART:20250309T070000
END:DAYLIGHT
BEGIN:STANDARD
TZOFFSETFROM:-0400
TZOFFSETTO:-0500
TZNAME:EST
DTSTART:20251102T060000
END:STANDARD
BEGIN:DAYLIGHT
TZOFFSETFROM:-0500
TZOFFSETTO:-0400
TZNAME:EDT
DTSTART:20260308T070000
END:DAYLIGHT
BEGIN:STANDARD
TZOFFSETFROM:-0400
TZOFFSETTO:-0500
TZNAME:EST
DTSTART:20261101T060000
END:STANDARD
END:VTIMEZONE
BEGIN:VEVENT
DTSTART;TZID=America/New_York:20250109T180000
DTEND;TZID=America/New_York:20250109T220000
DTSTAMP:20260421T091806
CREATED:20241223T143812Z
LAST-MODIFIED:20241223T143812Z
UID:99-1736445600-1736460000@www.stanlylivestockarena.com
SUMMARY:Stanly County Beekeepers Meeting
DESCRIPTION:The Stanly County Beekeepers Association will host their monthly meeting at the Farm Bureau Livestock Arena Exhibit Hall.  This is an open meeting for anyone wishing to become a member of the Beekeepers Association.
URL:https://www.stanlylivestockarena.com/event/stanly-county-beekeepers-meeting/
LOCATION:Farm Bureau Livestock Arena\, 26130 Newt Road\, Albemarle\, NC\, 28001\, United States
END:VEVENT
BEGIN:VEVENT
DTSTART;TZID=America/New_York:20250103T190000
DTEND;TZID=America/New_York:20250103T220000
DTSTAMP:20260421T091806
CREATED:20241223T141328Z
LAST-MODIFIED:20241223T141328Z
UID:96-1735930800-1735941600@www.stanlylivestockarena.com
SUMMARY:Stanly County Cattleman's Annual Meeting
DESCRIPTION:The Stanly County Cattleman’s Association will hold their monthly meeting at the Farm Bureau Livestock Arena Exhibit Hall.  This is a private event for Cattleman Association members only.
URL:https://www.stanlylivestockarena.com/event/stanly-county-cattlemans-annual-meeting/
LOCATION:Farm Bureau Livestock Arena\, 26130 Newt Road\, Albemarle\, NC\, 28001\, United States
ORGANIZER;CN="Farm Bureau Livestock Arena":MAILTO:clambert@stanlycountync.gov
END:VEVENT
END:VCALENDAR