BEGIN:VCALENDAR
VERSION:2.0
PRODID:-//Farm Bureau Livestock Arena - ECPv6.15.20//NONSGML v1.0//EN
CALSCALE:GREGORIAN
METHOD:PUBLISH
X-ORIGINAL-URL:https://www.stanlylivestockarena.com
X-WR-CALDESC:Events for Farm Bureau Livestock Arena
REFRESH-INTERVAL;VALUE=DURATION:PT1H
X-Robots-Tag:noindex
X-PUBLISHED-TTL:PT1H
BEGIN:VTIMEZONE
TZID:America/New_York
BEGIN:DAYLIGHT
TZOFFSETFROM:-0500
TZOFFSETTO:-0400
TZNAME:EDT
DTSTART:20240310T070000
END:DAYLIGHT
BEGIN:STANDARD
TZOFFSETFROM:-0400
TZOFFSETTO:-0500
TZNAME:EST
DTSTART:20241103T060000
END:STANDARD
BEGIN:DAYLIGHT
TZOFFSETFROM:-0500
TZOFFSETTO:-0400
TZNAME:EDT
DTSTART:20250309T070000
END:DAYLIGHT
BEGIN:STANDARD
TZOFFSETFROM:-0400
TZOFFSETTO:-0500
TZNAME:EST
DTSTART:20251102T060000
END:STANDARD
BEGIN:DAYLIGHT
TZOFFSETFROM:-0500
TZOFFSETTO:-0400
TZNAME:EDT
DTSTART:20260308T070000
END:DAYLIGHT
BEGIN:STANDARD
TZOFFSETFROM:-0400
TZOFFSETTO:-0500
TZNAME:EST
DTSTART:20261101T060000
END:STANDARD
END:VTIMEZONE
BEGIN:VEVENT
DTSTART;TZID=America/New_York:20250907T000000
DTEND;TZID=America/New_York:20250907T235959
DTSTAMP:20260422T194240
CREATED:20250820T142614Z
LAST-MODIFIED:20250820T142614Z
UID:248-1757203200-1757289599@www.stanlylivestockarena.com
SUMMARY:Vortex Church (Private Event)
DESCRIPTION:Private Event
URL:https://www.stanlylivestockarena.com/event/vortex-church-private-event/
LOCATION:Farm Bureau Livestock Arena\, 26130 Newt Road\, Albemarle\, NC\, 28001\, United States
END:VEVENT
BEGIN:VEVENT
DTSTART;TZID=America/New_York:20250911T180000
DTEND;TZID=America/New_York:20250911T210000
DTSTAMP:20260422T194240
CREATED:20250820T142951Z
LAST-MODIFIED:20250820T142951Z
UID:250-1757613600-1757624400@www.stanlylivestockarena.com
SUMMARY:Bee Keepers Meeting
DESCRIPTION:SCBA meets the second Thursday each month discuss upcoming bee events\, seasonal conditions\, and research findings.
URL:https://www.stanlylivestockarena.com/event/bee-keepers-meeting/
LOCATION:Farm Bureau Livestock Arena\, 26130 Newt Road\, Albemarle\, NC\, 28001\, United States
END:VEVENT
BEGIN:VEVENT
DTSTART;TZID=America/New_York:20250918T180000
DTEND;TZID=America/New_York:20250918T210000
DTSTAMP:20260422T194240
CREATED:20250820T143858Z
LAST-MODIFIED:20250820T143858Z
UID:253-1758218400-1758229200@www.stanlylivestockarena.com
SUMMARY:Farm Bureau Annual Banquet
DESCRIPTION:
URL:https://www.stanlylivestockarena.com/event/farm-bureau-annual-banquet/
LOCATION:Farm Bureau Livestock Arena\, 26130 Newt Road\, Albemarle\, NC\, 28001\, United States
ORGANIZER;CN="Farm Bureau Livestock Arena":MAILTO:clambert@stanlycountync.gov
END:VEVENT
BEGIN:VEVENT
DTSTART;TZID=America/New_York:20250919T000000
DTEND;TZID=America/New_York:20250919T235959
DTSTAMP:20260422T194240
CREATED:20250820T144312Z
LAST-MODIFIED:20250820T144312Z
UID:256-1758240000-1758326399@www.stanlylivestockarena.com
SUMMARY:Relay for Life
DESCRIPTION:
URL:https://www.stanlylivestockarena.com/event/relay-for-life/
LOCATION:Farm Bureau Livestock Arena\, 26130 Newt Road\, Albemarle\, NC\, 28001\, United States
END:VEVENT
BEGIN:VEVENT
DTSTART;TZID=America/New_York:20250920T080000
DTEND;TZID=America/New_York:20250920T170000
DTSTAMP:20260422T194240
CREATED:20250820T144354Z
LAST-MODIFIED:20250820T144354Z
UID:260-1758355200-1758387600@www.stanlylivestockarena.com
SUMMARY:Michelin Corn-Hole Tournament
DESCRIPTION:Private Event
URL:https://www.stanlylivestockarena.com/event/michelin-corn-hole-tournament/
LOCATION:Farm Bureau Livestock Arena\, 26130 Newt Road\, Albemarle\, NC\, 28001\, United States
END:VEVENT
BEGIN:VEVENT
DTSTART;TZID=America/New_York:20250923T080000
DTEND;TZID=America/New_York:20250923T130000
DTSTAMP:20260422T194240
CREATED:20250820T144436Z
LAST-MODIFIED:20250820T144436Z
UID:263-1758614400-1758632400@www.stanlylivestockarena.com
SUMMARY:Leadership Stanly
DESCRIPTION:
URL:https://www.stanlylivestockarena.com/event/leadership-stanly/
LOCATION:Farm Bureau Livestock Arena\, 26130 Newt Road\, Albemarle\, NC\, 28001\, United States
END:VEVENT
BEGIN:VEVENT
DTSTART;TZID=America/New_York:20250927T090000
DTEND;TZID=America/New_York:20250927T130000
DTSTAMP:20260422T194240
CREATED:20250820T145404Z
LAST-MODIFIED:20250820T145404Z
UID:265-1758963600-1758978000@www.stanlylivestockarena.com
SUMMARY:Stanly County NC Artifact Show
DESCRIPTION:
URL:https://www.stanlylivestockarena.com/event/stanly-county-nc-artifact-show/
LOCATION:Farm Bureau Livestock Arena\, 26130 Newt Road\, Albemarle\, NC\, 28001\, United States
END:VEVENT
END:VCALENDAR